View In:
ArcGIS JavaScript
ArcGIS Online Map Viewer
ArcGIS Earth
ArcMap
View Footprint In:
ArcGIS Online Map Viewer
Service Description: Sentinel-2 10m land cover time series of the world. Produced by Impact Observatory, Microsoft, and Esri.
Name: Sentinel2_10m_LandCover
Description: Sentinel-2 10m land cover time series of the world. Produced by Impact Observatory, Microsoft, and Esri.
Single Fused Map Cache: false
Extent:
XMin: -2.00375070672E7
YMin: -1.5547304298299924E7
XMax: 2.0037507842788246E7
YMax: 1.8841995701700002E7
Spatial Reference: 102100
(3857)
Initial Extent:
XMin: -2.00375070672E7
YMin: -1.5547304298299924E7
XMax: 2.0037507842788246E7
YMax: 1.8841995701700002E7
Spatial Reference: 102100
(3857)
Full Extent:
XMin: -2.00375070672E7
YMin: -1.5547304298299924E7
XMax: 2.0037507842788246E7
YMax: 1.8841995701700002E7
Spatial Reference: 102100
(3857)
Time Info:
Start Time Field: StartDate
End Time Field: EndDate
Time Extent:
[2017/01/01 00:00:00 UTC, 2025/12/31 23:59:59 UTC]
Time Reference:
N/A
Pixel Size X: 9.999998729879174
Pixel Size Y: 9.999999999999979
Band Count: 1
Pixel Type: U8
RasterFunction Infos: {"rasterFunctionInfos": [
{
"name": "Cartographic Renderer for Visualization and Analysis",
"description": "Legend and attribute table for Sentinel 2 10m Land Cover.",
"help": ""
},
{
"name": "None",
"description": "Make a Raster or Raster Dataset into a Function Raster Dataset.",
"help": ""
},
{
"name": "Isolate Bare Ground Areas for Visualization and Analysis",
"description": "Shows only areas of bare ground(class 8).",
"help": ""
},
{
"name": "Isolate Built Areas for Visualization and Analysis",
"description": "Shows only built areas (class 7).",
"help": ""
},
{
"name": "Isolate Clouds for Visualization and Analysis",
"description": "Shows only Clouds(class 10)",
"help": ""
},
{
"name": "Isolate Converted Lands for Visualization and Analysis",
"description": "Shows only built areas and crops (class 5 and 7).",
"help": ""
},
{
"name": "Isolate Crops for Visualization and Analysis",
"description": "Shows only Croplands(class 5)",
"help": ""
},
{
"name": "Isolate Flooded Vegeation Areas for Visualization and Analysis",
"description": "Shows only areas of flooded vegetation (class 4).",
"help": ""
},
{
"name": "Isolate Rangelands Areas for Visualization and Analysis",
"description": "Shows only rangeland areas (class 11).",
"help": ""
},
{
"name": "Isolate Snow or Ice for Visualization and Analysis",
"description": "Shows only areas of snow or ice (class 9).",
"help": ""
},
{
"name": "Isolate Trees for Visualization and Analysis",
"description": "Shows only areas of trees (class 2).",
"help": ""
},
{
"name": "Isolate Water Areas for Visualization and Analysis",
"description": "Shows only water areas (class 1).",
"help": ""
}
]}
Mensuration Capabilities: Basic
Has Histograms: true
Has Colormap: false
Has Multi Dimensions : false
Rendering Rule:
Min Scale: 0
Max Scale: 0
Copyright Text: Impact Observatory, Microsoft, and Esri.
Service Data Type: esriImageServiceDataTypeGeneric
Min Values: 1
Max Values: 11
Mean Values: 7.403700319129702
Standard Deviation Values: 3.5139172804935344
Object ID Field: OBJECTID
Fields:
-
OBJECTID
(
type: esriFieldTypeOID, alias: OBJECTID
)
-
Shape
(
type: esriFieldTypeGeometry, alias: Shape
)
-
Name
(
type: esriFieldTypeString, alias: Name, length: 200
)
-
MinPS
(
type: esriFieldTypeDouble, alias: MinPS
)
-
MaxPS
(
type: esriFieldTypeDouble, alias: MaxPS
)
-
LowPS
(
type: esriFieldTypeDouble, alias: LowPS
)
-
HighPS
(
type: esriFieldTypeDouble, alias: HighPS
)
-
Category
(
type: esriFieldTypeInteger, alias: Category
, Coded Values:
[0: Unknown]
, [1: Primary]
, [2: Overview]
, ...6 more...
)
-
Tag
(
type: esriFieldTypeString, alias: Tag, length: 100
)
-
GroupName
(
type: esriFieldTypeString, alias: GroupName, length: 100
)
-
ProductName
(
type: esriFieldTypeString, alias: ProductName, length: 100
)
-
CenterX
(
type: esriFieldTypeDouble, alias: CenterX
)
-
CenterY
(
type: esriFieldTypeDouble, alias: CenterY
)
-
ZOrder
(
type: esriFieldTypeInteger, alias: ZOrder
)
-
Shape_Length
(
type: esriFieldTypeDouble, alias: Shape_Length
)
-
Shape_Area
(
type: esriFieldTypeDouble, alias: Shape_Area
)
-
Year
(
type: esriFieldTypeSmallInteger, alias: Year
)
Default Mosaic Method: ByAttribute
Allowed Mosaic Methods: ByAttribute,NorthWest,Center,LockRaster,Nadir,Viewpoint,Seamline,None
SortField: Year
SortValue: 2050
Mosaic Operator: First
Default Compression Quality: 75
Default Resampling Method: Nearest
Max Record Count: 1000
Max Image Height: 4000
Max Image Width: 4000
Max Download Image Count: 20
Max Mosaic Image Count: 20
Allow Raster Function: true
Allow Copy: true
Allow Analysis: true
Allow Compute TiePoints: false
Supports Statistics: true
Supports Advanced Queries: true
Use StandardizedQueries: true
Raster Type Infos:
Name: Raster Dataset
Description: Supports all ArcGIS Raster Datasets
Help:
Has Raster Attribute Table: false
Edit Fields Info: null
Ownership Based AccessControl For Rasters: null
Child Resources:
Info
Histograms
Statistics
Key Properties
Legend
Raster Function Infos
Supported Operations:
Export Image
Query
Identify
Measure
Compute Histograms
Compute Statistics Histograms
Get Samples
Compute Class Statistics
Query Boundary
Compute Pixel Location
Compute Angles
Validate
Project