{
 "currentVersion": 11.0,
 "serviceDescription": "Sentinel-2 10m land cover time series of the world. Produced by Impact Observatory, Microsoft, and Esri.",
 "name": "Sentinel2_10m_LandCover",
 "description": "Sentinel-2 10m land cover time series of the world. Produced by Impact Observatory, Microsoft, and Esri.",
 "extent": {
  "xmin": -2.00375070672E7,
  "ymin": -1.5547304298299924E7,
  "xmax": 2.0037507842788246E7,
  "ymax": 1.8841995701700002E7,
  "spatialReference": {
   "wkid": 102100,
   "latestWkid": 3857
  }
 },
 "initialExtent": {
  "xmin": -2.00375070672E7,
  "ymin": -1.5547304298299924E7,
  "xmax": 2.0037507842788246E7,
  "ymax": 1.8841995701700002E7,
  "spatialReference": {
   "wkid": 102100,
   "latestWkid": 3857
  }
 },
 "fullExtent": {
  "xmin": -2.00375070672E7,
  "ymin": -1.5547304298299924E7,
  "xmax": 2.0037507842788246E7,
  "ymax": 1.8841995701700002E7,
  "spatialReference": {
   "wkid": 102100,
   "latestWkid": 3857
  }
 },
 "sortableFields": "",
 "bandCount": 1,
 "pixelType": "U8",
 "minValues": [
  0
 ],
 "maxValues": [
  11
 ],
 "meanValues": [
  7.281947135864333
 ],
 "stdvValues": [
  3.6240001343670425
 ],
 "hasMultidimensions": false,
 "timeInfo": {
  "startTimeField": "StartDate",
  "endTimeField": "EndDate",
  "timeExtent": [
   1483228800000,
   1735689599000
  ],
  "timeReference": null
 },
 "pixelSizeX": 9.999998729879174,
 "pixelSizeY": 9.999999999999979,
 "datasetFormat": "AMD",
 "uncompressedSize": 13781518852860,
 "blockWidth": 2048,
 "blockHeight": 256,
 "compressionType": "None",
 "bandNames": [
  "Band_1"
 ],
 "allowCopy": true,
 "allowAnalysis": true,
 "minPixelSize": 0,
 "maxPixelSize": 0,
 "copyrightText": "Impact Observatory, Microsoft, and Esri.",
 "serviceDataType": "esriImageServiceDataTypeThematic",
 "serviceSourceType": "esriImageServiceSourceTypeMosaicDataset",
 "objectIdField": "OBJECTID",
 "fields": [
  {
   "name": "OBJECTID",
   "type": "esriFieldTypeOID",
   "alias": "OBJECTID",
   "domain": null
  },
  {
   "name": "Shape",
   "type": "esriFieldTypeGeometry",
   "alias": "Shape",
   "domain": null
  },
  {
   "name": "Name",
   "type": "esriFieldTypeString",
   "alias": "Name",
   "domain": null,
   "length": 200
  },
  {
   "name": "MinPS",
   "type": "esriFieldTypeDouble",
   "alias": "MinPS",
   "domain": null
  },
  {
   "name": "MaxPS",
   "type": "esriFieldTypeDouble",
   "alias": "MaxPS",
   "domain": null
  },
  {
   "name": "LowPS",
   "type": "esriFieldTypeDouble",
   "alias": "LowPS",
   "domain": null
  },
  {
   "name": "HighPS",
   "type": "esriFieldTypeDouble",
   "alias": "HighPS",
   "domain": null
  },
  {
   "name": "Category",
   "type": "esriFieldTypeInteger",
   "alias": "Category",
   "domain": {
    "type": "codedValue",
    "name": "MosaicCatalogItemCategoryDomain",
    "description": "Catalog item categories.",
    "codedValues": [
     {
      "name": "Unknown",
      "code": 0
     },
     {
      "name": "Primary",
      "code": 1
     },
     {
      "name": "Overview",
      "code": 2
     },
     {
      "name": "Unprocessed Overview",
      "code": 3
     },
     {
      "name": "Partial Overview",
      "code": 4
     },
     {
      "name": "Inactive",
      "code": 5
     },
     {
      "name": "Uploaded",
      "code": 253
     },
     {
      "name": "Incomplete",
      "code": 254
     },
     {
      "name": "Custom",
      "code": 255
     }
    ],
    "mergePolicy": "esriMPTDefaultValue",
    "splitPolicy": "esriSPTDefaultValue"
   }
  },
  {
   "name": "Tag",
   "type": "esriFieldTypeString",
   "alias": "Tag",
   "domain": null,
   "length": 100
  },
  {
   "name": "GroupName",
   "type": "esriFieldTypeString",
   "alias": "GroupName",
   "domain": null,
   "length": 100
  },
  {
   "name": "ProductName",
   "type": "esriFieldTypeString",
   "alias": "ProductName",
   "domain": null,
   "length": 100
  },
  {
   "name": "CenterX",
   "type": "esriFieldTypeDouble",
   "alias": "CenterX",
   "domain": null
  },
  {
   "name": "CenterY",
   "type": "esriFieldTypeDouble",
   "alias": "CenterY",
   "domain": null
  },
  {
   "name": "ZOrder",
   "type": "esriFieldTypeInteger",
   "alias": "ZOrder",
   "domain": null
  },
  {
   "name": "Shape_Length",
   "type": "esriFieldTypeDouble",
   "alias": "Shape_Length",
   "domain": null
  },
  {
   "name": "Shape_Area",
   "type": "esriFieldTypeDouble",
   "alias": "Shape_Area",
   "domain": null
  },
  {
   "name": "Year",
   "type": "esriFieldTypeSmallInteger",
   "alias": "Year",
   "domain": null
  },
  {
   "name": "StartDate",
   "type": "esriFieldTypeDate",
   "alias": "StartDate",
   "domain": null,
   "length": 8
  },
  {
   "name": "EndDate",
   "type": "esriFieldTypeDate",
   "alias": "EndDate",
   "domain": null,
   "length": 8
  }
 ],
 "capabilities": "Image,Metadata,Catalog,Mensuration",
 "defaultMosaicMethod": "ByAttribute",
 "allowedMosaicMethods": "ByAttribute,NorthWest,Center,LockRaster,Nadir,Viewpoint,None",
 "sortField": "Year",
 "sortValue": "2050",
 "sortAscending": true,
 "mosaicOperator": "First",
 "maxDownloadSizeLimit": 2048,
 "defaultCompressionQuality": 75,
 "defaultResamplingMethod": "Nearest",
 "maxImageHeight": 10000,
 "maxImageWidth": 10000,
 "maxRecordCount": 1000,
 "maxDownloadImageCount": 20,
 "maxMosaicImageCount": 20,
 "allowRasterFunction": true,
 "rasterFunctionInfos": [
  {
   "name": "Cartographic Renderer for Visualization and Analysis",
   "description": "Legend and attribute table for Sentinel 2 10m Land Cover.",
   "help": ""
  },
  {
   "name": "None",
   "description": "Make a Raster or Raster Dataset into a Function Raster Dataset.",
   "help": ""
  },
  {
   "name": "Isolate Bare Ground Areas for Visualization and Analysis",
   "description": "Shows only areas of bare ground(class 8).",
   "help": ""
  },
  {
   "name": "Isolate Built Areas for Visualization and Analysis",
   "description": "Shows only built areas (class 7).",
   "help": ""
  },
  {
   "name": "Isolate Clouds for Visualization and Analysis",
   "description": "Shows only Clouds(class 10)",
   "help": ""
  },
  {
   "name": "Isolate Converted Lands for Visualization and Analysis",
   "description": "Shows only built areas and crops (class 5 and 7).",
   "help": ""
  },
  {
   "name": "Isolate Crops for Visualization and Analysis",
   "description": "Shows only Croplands(class 5)",
   "help": ""
  },
  {
   "name": "Isolate Flooded Vegeation Areas for Visualization and Analysis",
   "description": "Shows only areas of flooded vegetation (class 4).",
   "help": ""
  },
  {
   "name": "Isolate Rangelands Areas for Visualization and Analysis",
   "description": "Shows only rangeland areas (class 11).",
   "help": ""
  },
  {
   "name": "Isolate Snow or Ice for Visualization and Analysis",
   "description": "Shows only areas of snow or ice (class 9).",
   "help": ""
  },
  {
   "name": "Isolate Trees for Visualization and Analysis",
   "description": "Shows only areas of trees (class 2).",
   "help": ""
  },
  {
   "name": "Isolate Water Areas for Visualization and Analysis",
   "description": "Shows only water areas (class 1).",
   "help": ""
  }
 ],
 "rasterTypeInfos": [
  {
   "name": "Raster Dataset",
   "description": "Supports all ArcGIS Raster Datasets",
   "help": ""
  }
 ],
 "mensurationCapabilities": "Basic",
 "hasHistograms": true,
 "hasColormap": false,
 "hasRasterAttributeTable": false,
 "minScale": 0,
 "maxScale": 0,
 "exportTilesAllowed": false,
 "supportsStatistics": true,
 "supportsAdvancedQueries": true,
 "editFieldsInfo": null,
 "ownershipBasedAccessControlForRasters": null,
 "allowComputeTiePoints": false,
 "useStandardizedQueries": true,
 "advancedQueryCapabilities": {
  "useStandardizedQueries": true,
  "supportsStatistics": true,
  "supportsOrderBy": true,
  "supportsDistinct": true,
  "supportsPagination": true
 },
 "spatialReference": {
  "wkid": 102100,
  "latestWkid": 3857
 }
}
