{ "currentVersion": 11.0, "serviceDescription": "
MapBiomas Collection 7.1 includes annual land cover and land use data covering Brazil for the period 1985 to 2021.<\/span><\/p><\/div><\/div><\/div>",
"name": "MapBiomas",
"description": " MapBiomas Collection 7.1 includes annual land cover and land use data covering Brazil for the period 1985 to 2021.<\/span><\/p><\/div><\/div><\/div>",
"extent": {
"xmin": -74.89739613999996,
"ymin": -34.7917509538885,
"xmax": -33.061326222570834,
"ymax": 7.912091528000076,
"spatialReference": {
"wkid": 4326,
"latestWkid": 4326
}
},
"initialExtent": {
"xmin": -74.89739613999996,
"ymin": -34.7917509538885,
"xmax": -33.061326222570834,
"ymax": 7.912091528000076,
"spatialReference": {
"wkid": 4326,
"latestWkid": 4326
}
},
"fullExtent": {
"xmin": -74.89739613999996,
"ymin": -34.7917509538885,
"xmax": -33.061326222570834,
"ymax": 7.912091528000076,
"spatialReference": {
"wkid": 4326,
"latestWkid": 4326
}
},
"sortableFields": "",
"bandCount": 1,
"pixelType": "U8",
"minValues": [],
"maxValues": [],
"meanValues": [],
"stdvValues": [],
"hasMultidimensions": false,
"timeInfo": {
"startTimeField": "StdTime",
"endTimeField": "StdTime",
"timeExtent": [
473428800000,
1609502400000
],
"timeReference": null,
"defaultTimeInterval": 1,
"defaultTimeIntervalUnits": "esriTimeUnitsYears"
},
"pixelSizeX": 2.6949458523585647E-4,
"pixelSizeY": 2.6949458523585647E-4,
"datasetFormat": "AMD",
"uncompressedSize": 24599016701,
"blockWidth": 2048,
"blockHeight": 256,
"compressionType": "None",
"bandNames": [
"Band_1"
],
"allowCopy": true,
"allowAnalysis": true,
"minPixelSize": 0,
"maxPixelSize": 0,
"copyrightText": "MapBiomas",
"serviceDataType": "esriImageServiceDataTypeThematic",
"serviceSourceType": "esriImageServiceSourceTypeMosaicDataset",
"objectIdField": "OBJECTID",
"fields": [
{
"name": "OBJECTID",
"type": "esriFieldTypeOID",
"alias": "OBJECTID",
"domain": null
},
{
"name": "Shape",
"type": "esriFieldTypeGeometry",
"alias": "Shape",
"domain": null
},
{
"name": "Name",
"type": "esriFieldTypeString",
"alias": "Name",
"domain": null,
"length": 200
},
{
"name": "MinPS",
"type": "esriFieldTypeDouble",
"alias": "MinPS",
"domain": null
},
{
"name": "MaxPS",
"type": "esriFieldTypeDouble",
"alias": "MaxPS",
"domain": null
},
{
"name": "LowPS",
"type": "esriFieldTypeDouble",
"alias": "LowPS",
"domain": null
},
{
"name": "HighPS",
"type": "esriFieldTypeDouble",
"alias": "HighPS",
"domain": null
},
{
"name": "Category",
"type": "esriFieldTypeInteger",
"alias": "Category",
"domain": {
"type": "codedValue",
"name": "MosaicCatalogItemCategoryDomain",
"description": "Catalog item categories.",
"codedValues": [
{
"name": "Unknown",
"code": 0
},
{
"name": "Primary",
"code": 1
},
{
"name": "Overview",
"code": 2
},
{
"name": "Unprocessed Overview",
"code": 3
},
{
"name": "Partial Overview",
"code": 4
},
{
"name": "Inactive",
"code": 5
},
{
"name": "Uploaded",
"code": 253
},
{
"name": "Incomplete",
"code": 254
},
{
"name": "Custom",
"code": 255
}
],
"mergePolicy": "esriMPTDefaultValue",
"splitPolicy": "esriSPTDefaultValue"
}
},
{
"name": "Tag",
"type": "esriFieldTypeString",
"alias": "Tag",
"domain": null,
"length": 100
},
{
"name": "GroupName",
"type": "esriFieldTypeString",
"alias": "GroupName",
"domain": null,
"length": 100
},
{
"name": "ProductName",
"type": "esriFieldTypeString",
"alias": "ProductName",
"domain": null,
"length": 100
},
{
"name": "CenterX",
"type": "esriFieldTypeDouble",
"alias": "CenterX",
"domain": null
},
{
"name": "CenterY",
"type": "esriFieldTypeDouble",
"alias": "CenterY",
"domain": null
},
{
"name": "ZOrder",
"type": "esriFieldTypeInteger",
"alias": "ZOrder",
"domain": null
},
{
"name": "StdTime",
"type": "esriFieldTypeDate",
"alias": "Standard Time",
"domain": null,
"length": 8
},
{
"name": "Year",
"type": "esriFieldTypeInteger",
"alias": "Year",
"domain": null
}
],
"capabilities": "Catalog,Mensuration,Image,Metadata",
"defaultMosaicMethod": "ByAttribute",
"allowedMosaicMethods": "ByAttribute,NorthWest,Center,LockRaster,Nadir,Viewpoint,Seamline,None",
"sortField": "StdTime",
"sortValue": "2050/1/1",
"sortAscending": true,
"mosaicOperator": "First",
"maxDownloadSizeLimit": 2048,
"defaultCompressionQuality": 85,
"defaultResamplingMethod": "Nearest",
"maxImageHeight": 30000,
"maxImageWidth": 30000,
"maxRecordCount": 1000,
"maxDownloadImageCount": 20,
"maxMosaicImageCount": 20,
"allowRasterFunction": true,
"rasterFunctionInfos": [
{
"name": "Cartographic Renderer - Lengend and Attribute Table",
"description": "Cartographic Renderer - Lengend and Attribute Table",
"help": ""
},
{
"name": "None",
"description": "Make a Raster or Raster Dataset into a Function Raster Dataset.",
"help": ""
}
],
"rasterTypeInfos": [
{
"name": "Raster Dataset",
"description": "Supports all ArcGIS Raster Datasets",
"help": ""
}
],
"mensurationCapabilities": "Basic",
"hasHistograms": false,
"hasColormap": false,
"hasRasterAttributeTable": false,
"minScale": 0,
"maxScale": 0,
"exportTilesAllowed": false,
"supportsStatistics": true,
"supportsAdvancedQueries": true,
"editFieldsInfo": null,
"ownershipBasedAccessControlForRasters": null,
"allowComputeTiePoints": false,
"useStandardizedQueries": true,
"advancedQueryCapabilities": {
"useStandardizedQueries": true,
"supportsStatistics": true,
"supportsOrderBy": true,
"supportsDistinct": true,
"supportsPagination": true
},
"spatialReference": {
"wkid": 4326,
"latestWkid": 4326
}
}